BEGIN:VCALENDAR
VERSION:2.0
PRODID:-//Library Market//iCal Export//EN
BEGIN:VEVENT
SUMMARY:Manga March Madness
UID:8299
DTSTAMP:20260419T153800Z
DTSTART:20260301T060000Z
DTEND:20260331T050000Z
LOCATION:Farmers Branch Manske Library, 13613 Webb Chapel Road, Farmers Br
 anch, TX 75234, United States
ROOM: Manga March Madness
DESCRIPTION:Manga March Madness is back! Last year, you crowned Spy Family
  as the #1 Manga series. Can it pull off the win again? 16 series will bat
 tle it out to be the top. You decide who wins. Vote here each week to keep
  your favorites in the bracket!
URL:https://farmersbranchmanske.librarycalendar.com/event/manga-march-madn
 ess-8299
END:VEVENT
END:VCALENDAR
