BEGIN:VCALENDAR
VERSION:2.0
PRODID:-//Library Market//iCal Export//EN
BEGIN:VEVENT
SUMMARY:Entender el fraude y las estafas
UID:8112
DTSTAMP:20260419T153800Z
DTSTART:20260217T190000Z
DTEND:20260217T201500Z
LOCATION:Farmers Branch Manske Library, 13613 Webb Chapel Road, Farmers Br
 anch, TX 75234, United States
ROOM: Meeting Room 2
DESCRIPTION:La capacidad de detectar una estafa es una habilidad digital e
 sencial. En esta sesión, revisaremos algunas de las estafas más comunes,
  ofreceremos consejos para evitarlas y explicaremos qué hacer si lo estaf
 an. Analizaremos ejemplos de correos electrónicos, mensajes de texto y de
 epfakes para ver cómo la IA puede aumentar la propagación y la complejid
 ad de las estafas. También proporcionaremos recursos útiles para mantene
 rse informado sobre las estafas más recientes.
URL:https://farmersbranchmanske.librarycalendar.com/event/entender-el-frau
 de-y-las-estafas-8112
END:VEVENT
END:VCALENDAR
